BEGIN:VCALENDAR
VERSION:2.0
PRODID:-//Concilia, ser mujer rural - ECPv6.15.20//NONSGML v1.0//EN
CALSCALE:GREGORIAN
METHOD:PUBLISH
X-ORIGINAL-URL:https://concilia.org
X-WR-CALDESC:Eventos para Concilia, ser mujer rural
REFRESH-INTERVAL;VALUE=DURATION:PT1H
X-Robots-Tag:noindex
X-PUBLISHED-TTL:PT1H
BEGIN:VTIMEZONE
TZID:Europe/Madrid
BEGIN:DAYLIGHT
TZOFFSETFROM:+0100
TZOFFSETTO:+0200
TZNAME:CEST
DTSTART:20250330T010000
END:DAYLIGHT
BEGIN:STANDARD
TZOFFSETFROM:+0200
TZOFFSETTO:+0100
TZNAME:CET
DTSTART:20251026T010000
END:STANDARD
BEGIN:DAYLIGHT
TZOFFSETFROM:+0100
TZOFFSETTO:+0200
TZNAME:CEST
DTSTART:20260329T010000
END:DAYLIGHT
BEGIN:STANDARD
TZOFFSETFROM:+0200
TZOFFSETTO:+0100
TZNAME:CET
DTSTART:20261025T010000
END:STANDARD
BEGIN:DAYLIGHT
TZOFFSETFROM:+0100
TZOFFSETTO:+0200
TZNAME:CEST
DTSTART:20270328T010000
END:DAYLIGHT
BEGIN:STANDARD
TZOFFSETFROM:+0200
TZOFFSETTO:+0100
TZNAME:CET
DTSTART:20271031T010000
END:STANDARD
END:VTIMEZONE
BEGIN:VEVENT
DTSTART;TZID=Europe/Madrid:20260128T163000
DTEND;TZID=Europe/Madrid:20260128T183000
DTSTAMP:20260424T204426
CREATED:20260120T112850Z
LAST-MODIFIED:20260120T113148Z
UID:15748-1769617800-1769625000@concilia.org
SUMMARY:Vive en direct el podcast "Locas ¿de qué?
DESCRIPTION:Vive en directo el podcast «Locas ¿de qué?»\nSerá en Daroca el próximo miércoles 28\, allí podremos participar y vivir en directo un episodio de este podcast sobre género y salud mental con perspectiva feminista. \nInscripciones en la web de ADRI Jiloca-Gallocanta: https://adri.es/locas-de-que/\nCanal de Podcast Locas ¿de qué? en https://redarcadia.es/locasdeque/ \nDurante la sesión también tendrá lugar la presentación del proyecto #CONCILIA Ser mujer rural y un coloquio-debate con las asistentes\, todo ello con la salud mental de las mujeres en el epicentro y poniendo especial énfasis en la realidad de las mujeres rurales\, con el objetivo de fomentar la sensibilización y romper estigmas. \n 
URL:https://concilia.org/evento/15748/
LOCATION:Fundación de desarrollo de la Comarca Campo de Daroca\, C/ Mayor 44 (3ª planta)\, Daroca\, Zaragoza\, 50360\, Spain
CATEGORIES:Charlas y conferencias
ATTACH;FMTTYPE=image/jpeg:https://concilia.org/wp-content/uploads/2026/01/Locasdeque-enero2026.jpg
END:VEVENT
END:VCALENDAR