BEGIN:VCALENDAR
VERSION:2.0
PRODID:-//Concilia, ser mujer rural - ECPv6.15.20//NONSGML v1.0//EN
CALSCALE:GREGORIAN
METHOD:PUBLISH
X-WR-CALNAME:Concilia, ser mujer rural
X-ORIGINAL-URL:https://concilia.org
X-WR-CALDESC:Eventos para Concilia, ser mujer rural
REFRESH-INTERVAL;VALUE=DURATION:PT1H
X-Robots-Tag:noindex
X-PUBLISHED-TTL:PT1H
BEGIN:VTIMEZONE
TZID:Europe/Madrid
BEGIN:DAYLIGHT
TZOFFSETFROM:+0100
TZOFFSETTO:+0200
TZNAME:CEST
DTSTART:20250330T010000
END:DAYLIGHT
BEGIN:STANDARD
TZOFFSETFROM:+0200
TZOFFSETTO:+0100
TZNAME:CET
DTSTART:20251026T010000
END:STANDARD
BEGIN:DAYLIGHT
TZOFFSETFROM:+0100
TZOFFSETTO:+0200
TZNAME:CEST
DTSTART:20260329T010000
END:DAYLIGHT
BEGIN:STANDARD
TZOFFSETFROM:+0200
TZOFFSETTO:+0100
TZNAME:CET
DTSTART:20261025T010000
END:STANDARD
BEGIN:DAYLIGHT
TZOFFSETFROM:+0100
TZOFFSETTO:+0200
TZNAME:CEST
DTSTART:20270328T010000
END:DAYLIGHT
BEGIN:STANDARD
TZOFFSETFROM:+0200
TZOFFSETTO:+0100
TZNAME:CET
DTSTART:20271031T010000
END:STANDARD
END:VTIMEZONE
BEGIN:VEVENT
DTSTART;TZID=Europe/Madrid:20260422T103000
DTEND;TZID=Europe/Madrid:20260422T123000
DTSTAMP:20260424T173705
CREATED:20260420T132947Z
LAST-MODIFIED:20260420T132947Z
UID:15789-1776853800-1776861000@concilia.org
SUMMARY:Taller de Sensibilización sobre Salud Mental con perspectiva de género
DESCRIPTION:Impulsado por Adesho a través del proyecto «CONCILIA. Ser mujer rural» e impartido por ARCADIA con el apoyo del Ayuntamiento de Almudévar. El taller de sensibilización en salud mental con perspectiva de género\, está dirigido a profesionales del ámbito social\, educativo y sanitario\, y abierto también a la comunidad. \nSeguimos trabajando para visibilizar\, sensibilizar y generar espacios seguros donde hablar de salud mental\, romper estigmas y avanzar hacia una igualdad real.
URL:https://concilia.org/evento/taller-de-sensibilizacion-sobre-salud-mental-con-perspectiva-de-genero/
LOCATION:Centro Cultural de Almudevar 1ª planta
CATEGORIES:Talleres
ATTACH;FMTTYPE=image/jpeg:https://concilia.org/wp-content/uploads/2026/04/Taller-Sensibilizacion-Salud-mental-29.7-x-42-cm-1.jpg
END:VEVENT
END:VCALENDAR